BEGIN:VCALENDAR
VERSION:2.0
PRODID:-//hacksw/handcal//NONSGML v1.0//EN
CALSCALE:GREGORIAN
BEGIN:VEVENT
DTEND:20260919T230000Z
UID:69e8c49892105
DTSTAMP:20260422T135240Z
LOCATION:01000 Sāo Paulo
DESCRIPTION:
URL;VALUE=URI:
SUMMARY:IRONMAN 70.3 São Paulo
DTSTART:20260919T230000Z
END:VEVENT
END:VCALENDAR
An internal server error occurred.