BEGIN:VCALENDAR
VERSION:2.0
PRODID:-//hacksw/handcal//NONSGML v1.0//EN
CALSCALE:GREGORIAN
BEGIN:VEVENT
DTEND:20260919T230000Z
UID:69e720fb901b3
DTSTAMP:20260421T080219Z
LOCATION:77600 Cozumel
DESCRIPTION:
URL;VALUE=URI:
SUMMARY:IRONMAN 70.3 Cozumel
DTSTART:20260919T230000Z
END:VEVENT
END:VCALENDAR
An internal server error occurred.