BEGIN:VCALENDAR
VERSION:2.0
PRODID:-//hacksw/handcal//NONSGML v1.0//EN
CALSCALE:GREGORIAN
BEGIN:VEVENT
DTEND:20260919T230000Z
UID:69e859d961fd3
DTSTAMP:20260422T061713Z
LOCATION:99338 Richland\, Washington
DESCRIPTION:
URL;VALUE=URI:
SUMMARY:IRONMAN 70.3 Washington Tri-Cities
DTSTART:20260919T230000Z
END:VEVENT
END:VCALENDAR
An internal server error occurred.