BEGIN:VCALENDAR
VERSION:2.0
PRODID:-//hacksw/handcal//NONSGML v1.0//EN
CALSCALE:GREGORIAN
BEGIN:VEVENT
DTEND:20260919T230000Z
UID:69e6fdf3b320f
DTSTAMP:20260421T053251Z
LOCATION:76135 Karlsruhe 
DESCRIPTION:
URL;VALUE=URI:
SUMMARY:Baden-Marathon
DTSTART:20260919T230000Z
END:VEVENT
END:VCALENDAR
An internal server error occurred.