BEGIN:VCALENDAR
VERSION:2.0
PRODID:-//hacksw/handcal//NONSGML v1.0//EN
CALSCALE:GREGORIAN
BEGIN:VEVENT
DTEND:20260919T230000Z
UID:69e70ec5cf22c
DTSTAMP:20260421T064437Z
LOCATION:47800 Krefeld
DESCRIPTION:
URL;VALUE=URI:
SUMMARY:Seidenraupen Cross
DTSTART:20260919T230000Z
END:VEVENT
END:VCALENDAR
An internal server error occurred.