BEGIN:VCALENDAR
VERSION:2.0
PRODID:-//hacksw/handcal//NONSGML v1.0//EN
CALSCALE:GREGORIAN
BEGIN:VEVENT
DTEND:20260918T230000Z
UID:69e6b8277dbb6
DTSTAMP:20260421T003503Z
LOCATION:6671 Weißenbach am Lech
DESCRIPTION:
URL;VALUE=URI:
SUMMARY:Lechlauf
DTSTART:20260918T230000Z
END:VEVENT
END:VCALENDAR
An internal server error occurred.