BEGIN:VCALENDAR
VERSION:2.0
PRODID:-//hacksw/handcal//NONSGML v1.0//EN
CALSCALE:GREGORIAN
BEGIN:VEVENT
DTEND:20260918T230000Z
UID:69e73ac712696
DTSTAMP:20260421T095223Z
LOCATION:8653 Stanz im Mürztal
DESCRIPTION:
URL;VALUE=URI:
SUMMARY:Stanzer Windheimat Trailrun
DTSTART:20260918T230000Z
END:VEVENT
END:VCALENDAR
An internal server error occurred.