BEGIN:VCALENDAR
VERSION:2.0
PRODID:-//hacksw/handcal//NONSGML v1.0//EN
CALSCALE:GREGORIAN
BEGIN:VEVENT
DTEND:20260925T230000Z
UID:69e73ac669304
DTSTAMP:20260421T095222Z
LOCATION:07008 Jones Beach\, New York
DESCRIPTION:
URL;VALUE=URI:
SUMMARY:IRONMAN 70.3 New York
DTSTART:20260925T230000Z
END:VEVENT
END:VCALENDAR
An internal server error occurred.