BEGIN:VCALENDAR
VERSION:2.0
PRODID:-//hacksw/handcal//NONSGML v1.0//EN
CALSCALE:GREGORIAN
BEGIN:VEVENT
DTEND:20260918T230000Z
UID:69e6d3b19e09e
DTSTAMP:20260421T023233Z
LOCATION:CB1 OAN Cambridge\, Maryland
DESCRIPTION:
URL;VALUE=URI:
SUMMARY:IRONMAN Maryland
DTSTART:20260918T230000Z
END:VEVENT
END:VCALENDAR
An internal server error occurred.