BEGIN:VCALENDAR
VERSION:2.0
PRODID:-//hacksw/handcal//NONSGML v1.0//EN
CALSCALE:GREGORIAN
BEGIN:VEVENT
DTEND:20260918T230000Z
UID:69e75d6a9793e
DTSTAMP:20260421T122010Z
LOCATION:08309 Eibenstock 
DESCRIPTION:
URL;VALUE=URI:
SUMMARY:Drei-Talsperren Marathon
DTSTART:20260918T230000Z
END:VEVENT
END:VCALENDAR
An internal server error occurred.