BEGIN:VCALENDAR
VERSION:2.0
PRODID:-//hacksw/handcal//NONSGML v1.0//EN
CALSCALE:GREGORIAN
BEGIN:VEVENT
DTEND:20260919T230000Z
UID:69e81225d8eb8
DTSTAMP:20260422T011117Z
LOCATION:9241 Villach
DESCRIPTION:
URL;VALUE=URI:
SUMMARY:Crux Lauf Villach
DTSTART:20260917T230000Z
END:VEVENT
END:VCALENDAR
An internal server error occurred.