BEGIN:VCALENDAR
VERSION:2.0
PRODID:-//hacksw/handcal//NONSGML v1.0//EN
CALSCALE:GREGORIAN
BEGIN:VEVENT
DTEND:20260912T230000Z
UID:69e8121c669a4
DTSTAMP:20260422T011108Z
LOCATION:5242 Peretseck
DESCRIPTION:
URL;VALUE=URI:
SUMMARY:Saiga Hanser Woidlauf
DTSTART:20260912T230000Z
END:VEVENT
END:VCALENDAR
An internal server error occurred.