BEGIN:VCALENDAR
VERSION:2.0
PRODID:-//hacksw/handcal//NONSGML v1.0//EN
CALSCALE:GREGORIAN
BEGIN:VEVENT
DTEND:20260912T230000Z
UID:69e670a777ecc
DTSTAMP:20260420T192959Z
LOCATION:15537 Erkner
DESCRIPTION:
URL;VALUE=URI:
SUMMARY:IRONMAN 70.3 Erkner
DTSTART:20260912T230000Z
END:VEVENT
END:VCALENDAR
An internal server error occurred.