BEGIN:VCALENDAR
VERSION:2.0
PRODID:-//hacksw/handcal//NONSGML v1.0//EN
CALSCALE:GREGORIAN
BEGIN:VEVENT
DTEND:20260919T230000Z
UID:69e720fc9043d
DTSTAMP:20260421T080220Z
LOCATION:49635 Frankfort\, Michigan
DESCRIPTION:
URL;VALUE=URI:
SUMMARY:IRONMAN 70.3 Michigan
DTSTART:20260919T230000Z
END:VEVENT
END:VCALENDAR
An internal server error occurred.