BEGIN:VCALENDAR
VERSION:2.0
PRODID:-//hacksw/handcal//NONSGML v1.0//EN
CALSCALE:GREGORIAN
BEGIN:VEVENT
DTEND:20260912T230000Z
UID:69e6b827675f4
DTSTAMP:20260421T003503Z
LOCATION:20535 Hamburg
DESCRIPTION:
URL;VALUE=URI:
SUMMARY:Airport Race
DTSTART:20260912T230000Z
END:VEVENT
END:VCALENDAR
An internal server error occurred.