BEGIN:VCALENDAR
VERSION:2.0
PRODID:-//hacksw/handcal//NONSGML v1.0//EN
CALSCALE:GREGORIAN
BEGIN:VEVENT
DTEND:20260912T230000Z
UID:69e8121d9384b
DTSTAMP:20260422T011109Z
LOCATION:11111 Mooloolaba
DESCRIPTION:
URL;VALUE=URI:
SUMMARY:IRONMAN 70.3 Sunshine Coast
DTSTART:20260912T230000Z
END:VEVENT
END:VCALENDAR
An internal server error occurred.