BEGIN:VCALENDAR
VERSION:2.0
PRODID:-//hacksw/handcal//NONSGML v1.0//EN
CALSCALE:GREGORIAN
BEGIN:VEVENT
DTEND:20260620T230000Z
UID:69e599177577c
DTSTAMP:20260420T041015Z
LOCATION:6370 Kitzbühel
DESCRIPTION:
URL;VALUE=URI:
SUMMARY:Kitzbühel Triathlon
DTSTART:20260618T230000Z
END:VEVENT
END:VCALENDAR
An internal server error occurred.