BEGIN:VCALENDAR
VERSION:2.0
PRODID:-//hacksw/handcal//NONSGML v1.0//EN
CALSCALE:GREGORIAN
BEGIN:VEVENT
DTEND:20260911T230000Z
UID:69e73ac928b98
DTSTAMP:20260421T095225Z
LOCATION:23758 Oldenburg i. Holstein
DESCRIPTION:
URL;VALUE=URI:
SUMMARY:Oldenburger Hospizlauf
DTSTART:20260911T230000Z
END:VEVENT
END:VCALENDAR
An internal server error occurred.