BEGIN:VCALENDAR
VERSION:2.0
PRODID:-//hacksw/handcal//NONSGML v1.0//EN
CALSCALE:GREGORIAN
BEGIN:VEVENT
DTEND:20260911T230000Z
UID:69e81226114ac
DTSTAMP:20260422T011118Z
LOCATION:38644 Goslar-Hahnenklee
DESCRIPTION:
URL;VALUE=URI:
SUMMARY:10 Teiche Marathon Hahnenklee
DTSTART:20260911T230000Z
END:VEVENT
END:VCALENDAR
An internal server error occurred.