BEGIN:VCALENDAR
VERSION:2.0
PRODID:-//hacksw/handcal//NONSGML v1.0//EN
CALSCALE:GREGORIAN
BEGIN:VEVENT
DTEND:20260919T230000Z
UID:69e6b827516b1
DTSTAMP:20260421T003503Z
LOCATION:34131 Kassel 
DESCRIPTION:
URL;VALUE=URI:
SUMMARY:Kassel Marathon
DTSTART:20260917T230000Z
END:VEVENT
END:VCALENDAR
An internal server error occurred.