BEGIN:VCALENDAR
VERSION:2.0
PRODID:-//hacksw/handcal//NONSGML v1.0//EN
CALSCALE:GREGORIAN
BEGIN:VEVENT
DTEND:20260913T080000Z
UID:69e5ee0a2c8bb
DTSTAMP:20260420T101242Z
LOCATION:1230 Wien
DESCRIPTION:
URL;VALUE=URI:
SUMMARY:Maurer Waldorf Lauf
DTSTART:20260913T080000Z
END:VEVENT
END:VCALENDAR
An internal server error occurred.