BEGIN:VCALENDAR
VERSION:2.0
PRODID:-//hacksw/handcal//NONSGML v1.0//EN
CALSCALE:GREGORIAN
BEGIN:VEVENT
DTEND:20260905T230000Z
UID:69e6c9ed37fab
DTSTAMP:20260421T015053Z
LOCATION:2410 Hainburg an der Donau
DESCRIPTION:
URL;VALUE=URI:
SUMMARY:Braunsberglauf
DTSTART:20260905T230000Z
END:VEVENT
END:VCALENDAR
An internal server error occurred.