BEGIN:VCALENDAR
VERSION:2.0
PRODID:-//hacksw/handcal//NONSGML v1.0//EN
CALSCALE:GREGORIAN
BEGIN:VEVENT
DTEND:20260905T230000Z
UID:69e6c9eed65cb
DTSTAMP:20260421T015054Z
LOCATION:36037 Fulda
DESCRIPTION:
URL;VALUE=URI:
SUMMARY:Fulda Marathon
DTSTART:20260905T230000Z
END:VEVENT
END:VCALENDAR
An internal server error occurred.