BEGIN:VCALENDAR
VERSION:2.0
PRODID:-//hacksw/handcal//NONSGML v1.0//EN
CALSCALE:GREGORIAN
BEGIN:VEVENT
DTEND:20260905T230000Z
UID:69e81222d8059
DTSTAMP:20260422T011114Z
LOCATION:8300 Knokke-Heist\, Flanders
DESCRIPTION:
URL;VALUE=URI:
SUMMARY:IRONMAN 70.3 Knokke-Heist
DTSTART:20260905T230000Z
END:VEVENT
END:VCALENDAR
An internal server error occurred.