BEGIN:VCALENDAR
VERSION:2.0
PRODID:-//hacksw/handcal//NONSGML v1.0//EN
CALSCALE:GREGORIAN
BEGIN:VEVENT
DTEND:20260919T230000Z
UID:69e8ecc3c2efb
DTSTAMP:20260422T164403Z
LOCATION:1020 Wien
DESCRIPTION:
URL;VALUE=URI:
SUMMARY:Wiener Rote Nasen Lauf
DTSTART:20260919T230000Z
END:VEVENT
END:VCALENDAR
An internal server error occurred.