BEGIN:VCALENDAR
VERSION:2.0
PRODID:-//hacksw/handcal//NONSGML v1.0//EN
CALSCALE:GREGORIAN
BEGIN:VEVENT
DTEND:20260418T230000Z
UID:69e5c5d6adc08
DTSTAMP:20260420T072110Z
LOCATION:2301 Oberhausen
DESCRIPTION:
URL;VALUE=URI:
SUMMARY:Oberhausner Rote Nasen Lauf
DTSTART:20260418T230000Z
END:VEVENT
END:VCALENDAR
An internal server error occurred.