BEGIN:VCALENDAR
VERSION:2.0
PRODID:-//hacksw/handcal//NONSGML v1.0//EN
CALSCALE:GREGORIAN
BEGIN:VEVENT
DTEND:20260815T230000Z
UID:69e73ac3c19a5
DTSTAMP:20260421T095219Z
LOCATION:47051 Duisburg
DESCRIPTION:
URL;VALUE=URI:
SUMMARY:IRONMAN 70.3 Duisburg
DTSTART:20260815T230000Z
END:VEVENT
END:VCALENDAR
An internal server error occurred.