BEGIN:VCALENDAR
VERSION:2.0
PRODID:-//hacksw/handcal//NONSGML v1.0//EN
CALSCALE:GREGORIAN
BEGIN:VEVENT
DTEND:20260828T230000Z
UID:69e70ec7077f4
DTSTAMP:20260421T064439Z
LOCATION:3222 Annaberg bei Mariazell
DESCRIPTION:
URL;VALUE=URI:
SUMMARY:Annaberger Berglauf
DTSTART:20260828T230000Z
END:VEVENT
END:VCALENDAR
An internal server error occurred.