BEGIN:VCALENDAR
VERSION:2.0
PRODID:-//hacksw/handcal//NONSGML v1.0//EN
CALSCALE:GREGORIAN
BEGIN:VEVENT
DTEND:20260904T230000Z
UID:69e623a4ee773
DTSTAMP:20260420T140124Z
LOCATION:4851 Gampern
DESCRIPTION:
URL;VALUE=URI:
SUMMARY:Gamperner Lauf
DTSTART:20260904T230000Z
END:VEVENT
END:VCALENDAR
An internal server error occurred.