BEGIN:VCALENDAR
VERSION:2.0
PRODID:-//hacksw/handcal//NONSGML v1.0//EN
CALSCALE:GREGORIAN
BEGIN:VEVENT
DTEND:20260911T230000Z
UID:69e73ac695e59
DTSTAMP:20260421T095222Z
LOCATION:53201 Madison\, Wisconsin
DESCRIPTION:
URL;VALUE=URI:
SUMMARY:IRONMAN 70.3 Wisconsin
DTSTART:20260911T230000Z
END:VEVENT
END:VCALENDAR
An internal server error occurred.