BEGIN:VCALENDAR
VERSION:2.0
PRODID:-//hacksw/handcal//NONSGML v1.0//EN
CALSCALE:GREGORIAN
BEGIN:VEVENT
DTEND:20260902T230000Z
UID:69e65fc7a2aaf
DTSTAMP:20260420T181759Z
LOCATION:6992 Hirschegg
DESCRIPTION:
URL;VALUE=URI:
SUMMARY:Transalpine Run
DTSTART:20260827T230000Z
END:VEVENT
END:VCALENDAR
An internal server error occurred.