BEGIN:VCALENDAR
VERSION:2.0
PRODID:-//hacksw/handcal//NONSGML v1.0//EN
CALSCALE:GREGORIAN
BEGIN:VEVENT
DTEND:20260904T230000Z
UID:69e65fc62c394
DTSTAMP:20260420T181758Z
LOCATION:11111 Helsingborg
DESCRIPTION:
URL;VALUE=URI:
SUMMARY:Helsingborg Marathon
DTSTART:20260904T230000Z
END:VEVENT
END:VCALENDAR
An internal server error occurred.