BEGIN:VCALENDAR
VERSION:2.0
PRODID:-//hacksw/handcal//NONSGML v1.0//EN
CALSCALE:GREGORIAN
BEGIN:VEVENT
DTEND:20260911T230000Z
UID:69ead464115fc
DTSTAMP:20260424T032436Z
LOCATION:1020 Wien
DESCRIPTION:
URL;VALUE=URI:
SUMMARY:Sportfreunde-Kinder Charity Lauf
DTSTART:20260911T230000Z
END:VEVENT
END:VCALENDAR
An internal server error occurred.