BEGIN:VCALENDAR
VERSION:2.0
PRODID:-//hacksw/handcal//NONSGML v1.0//EN
CALSCALE:GREGORIAN
BEGIN:VEVENT
DTEND:20260903T230000Z
UID:69e63b4d1c446
DTSTAMP:20260420T154221Z
LOCATION:6850 Dornbirn
DESCRIPTION:
URL;VALUE=URI:
SUMMARY:Karrenlauf
DTSTART:20260903T230000Z
END:VEVENT
END:VCALENDAR
An internal server error occurred.