BEGIN:VCALENDAR
VERSION:2.0
PRODID:-//hacksw/handcal//NONSGML v1.0//EN
CALSCALE:GREGORIAN
BEGIN:VEVENT
DTEND:20260904T230000Z
UID:69e632ffb791a
DTSTAMP:20260420T150655Z
LOCATION:5630 Bad Hofgastein
DESCRIPTION:
URL;VALUE=URI:
SUMMARY:Infinite Trails Gastein
DTSTART:20260903T230000Z
END:VEVENT
END:VCALENDAR
An internal server error occurred.