BEGIN:VCALENDAR
VERSION:2.0
PRODID:-//hacksw/handcal//NONSGML v1.0//EN
CALSCALE:GREGORIAN
BEGIN:VEVENT
DTEND:20260911T230000Z
UID:69e6c9ef244e3
DTSTAMP:20260421T015055Z
LOCATION:19910 Jyväskyla
DESCRIPTION:
URL;VALUE=URI:
SUMMARY:Finlandia Marathon
DTSTART:20260910T230000Z
END:VEVENT
END:VCALENDAR
An internal server error occurred.