BEGIN:VCALENDAR
VERSION:2.0
PRODID:-//hacksw/handcal//NONSGML v1.0//EN
CALSCALE:GREGORIAN
BEGIN:VEVENT
DTEND:20260905T230000Z
UID:69e70ec78d02b
DTSTAMP:20260421T064439Z
LOCATION:8510 Stainz 
DESCRIPTION:
URL;VALUE=URI:
SUMMARY:Stainzer Schilcherlauf
DTSTART:20260903T230000Z
END:VEVENT
END:VCALENDAR
An internal server error occurred.