BEGIN:VCALENDAR
VERSION:2.0
PRODID:-//hacksw/handcal//NONSGML v1.0//EN
CALSCALE:GREGORIAN
BEGIN:VEVENT
DTEND:20260901T230000Z
UID:69e73aca12748
DTSTAMP:20260421T095226Z
LOCATION:4840 Vöcklabruck
DESCRIPTION:
URL;VALUE=URI:
SUMMARY:Business2Run Varena
DTSTART:20260901T230000Z
END:VEVENT
END:VCALENDAR
An internal server error occurred.