BEGIN:VCALENDAR
VERSION:2.0
PRODID:-//hacksw/handcal//NONSGML v1.0//EN
CALSCALE:GREGORIAN
BEGIN:VEVENT
DTEND:20260829T230000Z
UID:69e9a328408da
DTSTAMP:20260423T054216Z
LOCATION:5710  Zell am See-Kaprun
DESCRIPTION:
URL;VALUE=URI:
SUMMARY:IRONMAN 70.3 Zell am See - Kaprun
DTSTART:20260829T230000Z
END:VEVENT
END:VCALENDAR
An internal server error occurred.