BEGIN:VCALENDAR
VERSION:2.0
PRODID:-//hacksw/handcal//NONSGML v1.0//EN
CALSCALE:GREGORIAN
BEGIN:VEVENT
DTEND:20260828T230000Z
UID:69e611ea79538
DTSTAMP:20260420T124546Z
LOCATION:5611 Großarl
DESCRIPTION:
URL;VALUE=URI:
SUMMARY:Mountainman Grossarltal
DTSTART:20260827T230000Z
END:VEVENT
END:VCALENDAR
An internal server error occurred.