BEGIN:VCALENDAR
VERSION:2.0
PRODID:-//hacksw/handcal//NONSGML v1.0//EN
CALSCALE:GREGORIAN
BEGIN:VEVENT
DTEND:20260829T230030Z
UID:69e63b4d065a9
DTSTAMP:20260420T154221Z
LOCATION:8680 Mürzzuschlag
DESCRIPTION:
URL;VALUE=URI:
SUMMARY:Mürzathlon
DTSTART:20260828T230000Z
END:VEVENT
END:VCALENDAR
An internal server error occurred.