BEGIN:VCALENDAR
VERSION:2.0
PRODID:-//hacksw/handcal//NONSGML v1.0//EN
CALSCALE:GREGORIAN
BEGIN:VEVENT
DTEND:20260822T230000Z
UID:69e70ec57689b
DTSTAMP:20260421T064437Z
LOCATION:03200 Vichy

DESCRIPTION:
URL;VALUE=URI:
SUMMARY:IRONMAN 70.3 Vichy
DTSTART:20260822T230000Z
END:VEVENT
END:VCALENDAR
An internal server error occurred.