BEGIN:VCALENDAR
VERSION:2.0
PRODID:-//hacksw/handcal//NONSGML v1.0//EN
CALSCALE:GREGORIAN
BEGIN:VEVENT
DTEND:20260724T230000Z
UID:69e684c427c7b
DTSTAMP:20260420T205548Z
LOCATION:1000 Thun 
DESCRIPTION:
URL;VALUE=URI:
SUMMARY:IRONMAN Switzerland Thun
DTSTART:20260724T230000Z
END:VEVENT
END:VCALENDAR
An internal server error occurred.