BEGIN:VCALENDAR
VERSION:2.0
PRODID:-//hacksw/handcal//NONSGML v1.0//EN
CALSCALE:GREGORIAN
BEGIN:VEVENT
DTEND:20260821T230000Z
UID:69e625d7dcbe5
DTSTAMP:20260420T141047Z
LOCATION:10000 Tallin
DESCRIPTION:
URL;VALUE=URI:
SUMMARY:IRONMAN Tallinn
DTSTART:20260821T230000Z
END:VEVENT
END:VCALENDAR
An internal server error occurred.