BEGIN:VCALENDAR
VERSION:2.0
PRODID:-//hacksw/handcal//NONSGML v1.0//EN
CALSCALE:GREGORIAN
BEGIN:VEVENT
DTEND:20260821T230000Z
UID:69e623a00ef5f
DTSTAMP:20260420T140120Z
LOCATION:00100 Helsinki
DESCRIPTION:
URL;VALUE=URI:
SUMMARY:Helsinki Marathon
DTSTART:20260821T230000Z
END:VEVENT
END:VCALENDAR
An internal server error occurred.