BEGIN:VCALENDAR
VERSION:2.0
PRODID:-//hacksw/handcal//NONSGML v1.0//EN
CALSCALE:GREGORIAN
BEGIN:VEVENT
DTEND:20260820T230000Z
UID:69e8121822837
DTSTAMP:20260422T011104Z
LOCATION:2422 Pama
DESCRIPTION:
URL;VALUE=URI:
SUMMARY:Sommernachtslauf Pama
DTSTART:20260820T230000Z
END:VEVENT
END:VCALENDAR
An internal server error occurred.