BEGIN:VCALENDAR
VERSION:2.0
PRODID:-//hacksw/handcal//NONSGML v1.0//EN
CALSCALE:GREGORIAN
BEGIN:VEVENT
DTEND:20260815T230000Z
UID:69e623a03b527
DTSTAMP:20260420T140120Z
LOCATION:6335 Thiersee
DESCRIPTION:
URL;VALUE=URI:
SUMMARY:Thiersee Triathlon
DTSTART:20260815T230000Z
END:VEVENT
END:VCALENDAR
An internal server error occurred.