BEGIN:VCALENDAR
VERSION:2.0
PRODID:-//hacksw/handcal//NONSGML v1.0//EN
CALSCALE:GREGORIAN
BEGIN:VEVENT
DTEND:20260815T230000Z
UID:69e6307bc91be
DTSTAMP:20260420T145611Z
LOCATION:1050 Copenhagen

DESCRIPTION:
URL;VALUE=URI:
SUMMARY:IRONMAN Copenhagen
DTSTART:20260815T230000Z
END:VEVENT
END:VCALENDAR
An internal server error occurred.