BEGIN:VCALENDAR
VERSION:2.0
PRODID:-//hacksw/handcal//NONSGML v1.0//EN
CALSCALE:GREGORIAN
BEGIN:VEVENT
DTEND:20260918T230000Z
UID:69e81237ef26c
DTSTAMP:20260422T011135Z
LOCATION:4210 Gallneukirchen
DESCRIPTION:
URL;VALUE=URI:
SUMMARY:Citylauf Gallneukirchen
DTSTART:20260918T230000Z
END:VEVENT
END:VCALENDAR
An internal server error occurred.