BEGIN:VCALENDAR
VERSION:2.0
PRODID:-//hacksw/handcal//NONSGML v1.0//EN
CALSCALE:GREGORIAN
BEGIN:VEVENT
DTEND:20260815T230000Z
UID:69e623a4c1980
DTSTAMP:20260420T140124Z
LOCATION:14167 Berlin
DESCRIPTION:
URL;VALUE=URI:
SUMMARY:Berliner Mauerweglauf
DTSTART:20260814T230000Z
END:VEVENT
END:VCALENDAR
An internal server error occurred.